BEGIN:VCALENDAR
VERSION:2.0
PRODID:-//Orlando Estate Auction - ECPv5.3.1.1//NONSGML v1.0//EN
CALSCALE:GREGORIAN
METHOD:PUBLISH
X-WR-CALNAME:Orlando Estate Auction
X-ORIGINAL-URL:https://orlandoestateauction.com
X-WR-CALDESC:Events for Orlando Estate Auction
BEGIN:VTIMEZONE
TZID:America/New_York
BEGIN:DAYLIGHT
TZOFFSETFROM:-0500
TZOFFSETTO:-0400
TZNAME:EDT
DTSTART:20230312T070000
END:DAYLIGHT
BEGIN:STANDARD
TZOFFSETFROM:-0400
TZOFFSETTO:-0500
TZNAME:EST
DTSTART:20231105T060000
END:STANDARD
END:VTIMEZONE
BEGIN:VEVENT
DTSTART;TZID=America/New_York:20231028T150000
DTEND;TZID=America/New_York:20231028T200000
DTSTAMP:20260422T173102
CREATED:20230729T163731Z
LAST-MODIFIED:20231019T122007Z
UID:25562-1698505200-1698523200@orlandoestateauction.com
SUMMARY:Saturday night Auction!!!!  Preview begins at 3pm!!!
DESCRIPTION:Preview at 3pm\, the auction starts at 4pm!
URL:https://orlandoestateauction.com/event/saturday-night-auction-preview-begins-at-3pm/
ATTACH;FMTTYPE=image/jpeg:https://orlandoestateauction.com/wp-content/uploads/2021/01/RJQM1588.jpg
END:VEVENT
END:VCALENDAR